BEGIN:VCALENDAR
VERSION:2.0
PRODID:-//eventon.com NONSGML v1.0//EN
CALSCALE:GREGORIAN
METHOD:PUBLISH
BEGIN:VEVENT
UID:69e7a22477d8f
DTSTAMP:20260421T161324Z
DTSTART:20250302
DTEND:20250303
LOCATION:Ortigosa del Monte Ortigosa del Monte
SUMMARY:Roca Tour por por el Berrocal
DESCRIPTION:Roca Tour por por el Berrocal\,  2 de marzo a las 10:00 horas\,
   en Ortigosa del Monte. Un paseo de domingo por el Berrocal de Ortigosa de
 l Monte para despertar el asombro ante la naturaleza PROGRAMA DEL ROCA TOUR
  POR EL BERROCAL 10:00 Nos encontraremos en el Centro Cultural “Elena[..]
 \nhttps://www.eventosdesegovia.com/events/roca-tour-por-por-el-berrocal/
URL:https://www.eventosdesegovia.com/events/roca-tour-por-por-el-berrocal/
END:VEVENT
END:VCALENDAR