BEGIN:VCALENDAR
VERSION:2.0
PRODID:-//eventon.com NONSGML v1.0//EN
CALSCALE:GREGORIAN
METHOD:PUBLISH
BEGIN:VEVENT
UID:69e73d00c3f40
DTSTAMP:20260421T090152Z
DTSTART:20250308
DTEND:20250309
LOCATION:Casa Joven de Segovia Paseo de San Juan de la Cruz
SUMMARY:Charla 'Cómo disfrutar de la adolescencia en familia' en Casa Joven
DESCRIPTION:Charla &#8216;Cariño\,  me he comido a los niños. Cómo disfr
 utar de la adolescencia en familia&#8217;\,  8 de marzo a las 10:00 horas\,
   en Casa Joven. Requiere inscripción previa. Como madres y padres\,  apre
 nder a gestionar nuestras propias emociones es clave para acompañar a nues
 tras hijas e hijos. En este taller[..]\nhttps://www.eventosdesegovia.com/ev
 ents/charla-como-disfrutar-de-la-adolescencia-en-familia-en-casa-joven/
URL:https://www.eventosdesegovia.com/events/charla-como-disfrutar-de-la-adolescencia-en-familia-en-casa-joven/
END:VEVENT
END:VCALENDAR