BEGIN:VCALENDAR
VERSION:2.0
PRODID:-//eventon.com NONSGML v1.0//EN
CALSCALE:GREGORIAN
METHOD:PUBLISH
BEGIN:VEVENT
UID:69e7a23a746ab
DTSTAMP:20260421T161346Z
DTSTART:20250301
DTEND:20250302
LOCATION:Casa Joven de Segovia Paseo de San Juan de la Cruz
SUMMARY:Tarde de tableros en Casa Joven
DESCRIPTION:Tarde de tableros\,  1 de marzo a las 17:00 horas\,  en Casa Jo
 ven. Actividad destinada a público joven (hasta 35 años). Requiere inscri
 pción previa. ¿Te gustan los juegos de mesa y quieres descubrir los más 
 actuales y divertidos? 🎯♟️🃏 Este sábado\,  pasa una tarde incre
 ble probando diferentes juegos en un[..]\nhttps://www.eventosdesegovia.com
 /events/tarde-de-tableros-en-casa-joven-4/
URL:https://www.eventosdesegovia.com/events/tarde-de-tableros-en-casa-joven-4/
END:VEVENT
END:VCALENDAR