BEGIN:VCALENDAR
VERSION:2.0
PRODID:-//eventon.com NONSGML v1.0//EN
CALSCALE:GREGORIAN
METHOD:PUBLISH
BEGIN:VEVENT
UID:69e633ba66525
DTSTAMP:20260420T141002Z
DTSTART:20250301
DTEND:20250302
LOCATION:Cantalejo Cantalejo
SUMMARY:Carnaval 2025 en Cantalejo
DESCRIPTION:Carnaval 2025 en Cantalejo\,  los días 1 y 3 de Marzo de 2025\
 nhttps://www.eventosdesegovia.com/events/carnaval-2025-en-cantalejo/
URL:https://www.eventosdesegovia.com/events/carnaval-2025-en-cantalejo/
END:VEVENT
END:VCALENDAR