BEGIN:VCALENDAR
VERSION:2.0
PRODID:-//eventon.com NONSGML v1.0//EN
CALSCALE:GREGORIAN
METHOD:PUBLISH
BEGIN:VEVENT
UID:69e4d280ec845
DTSTAMP:20260419T130256Z
DTSTART:20250306
DTEND:20250307
LOCATION:Casa de la Lectura – Biblioteca Municipal Calle Juan Bravo\,  11
SUMMARY:Cine clásico 'Perversidad' en Casa de la Lectura
DESCRIPTION:Cine clásico «Perversidad» (1945)\,  6 de marzo de 2025 a la
 s 18:00 horas\,  en Casa de la Lectura &#8211; Biblioteca Municipal Segovia
  (Juan Bravo\,  11). Cine clásico: «Perversidad» (1945)Dirección: Fritz
  LangIntérpretes: Edward G. Robinson\,  Joan Bennett\,  Dan Duryea&#8230; 
 Nueva York\,  año 1934. Christopher Cross es un simple cajero\,  infelizme
 nte casado\, [..]\nhttps://www.eventosdesegovia.com/events/cine-clasico-per
 versidad-en-casa-de-la-lectura/
URL:https://www.eventosdesegovia.com/events/cine-clasico-perversidad-en-casa-de-la-lectura/
END:VEVENT
END:VCALENDAR