BEGIN:VCALENDAR
VERSION:2.0
PRODID:-//eventon.com NONSGML v1.0//EN
CALSCALE:GREGORIAN
METHOD:PUBLISH
BEGIN:VEVENT
UID:69eb3f6a97aab
DTSTAMP:20260424T100114Z
DTSTART:20250307
DTEND:20250308
LOCATION:Cines ArteSiete Calle Dámaso Alonso\,  54\,  40006 Segovia
SUMMARY:Cartelera Cines Artesiete
DESCRIPTION:Cartelera Cines Artesiete en Segovia\,  para la semana del 7 al
  13 de Marzo de 2025 Síguenos en nuestro canal de Whatsapp:\nhttps://www.e
 ventosdesegovia.com/events/cartelera-cines-artesiete-164/
URL:https://www.eventosdesegovia.com/events/cartelera-cines-artesiete-164/
END:VEVENT
END:VCALENDAR