BEGIN:VCALENDAR
VERSION:2.0
PRODID:-//eventon.com NONSGML v1.0//EN
CALSCALE:GREGORIAN
METHOD:PUBLISH
BEGIN:VEVENT
UID:69e74e1b93ffd
DTSTAMP:20260421T101451Z
DTSTART:20250326
DTEND:20250327
LOCATION:Palacio Episcopal de Segovia Plaza San Esteban\,  13\,  40003 Segovia
SUMMARY:Conferencia 'La Semana Santa en las vidrieras de la Catedral' en Palacio Episcopal
DESCRIPTION:Conferencia &#8216;La Semana Santa en las vidrieras de la Cated
 ral&#8217;\,  26 de marzo a las 17:30 horas\,  en Palacio Episcopa. El mié
 rcoles 26 de marzo\,  a las 17:30\,  el canónigo José-Miguel Espinosa Sar
 miento ofrecerá la conferencia «La Semana Santa en las vidrieras de la Ca
 tedral”. Autor del libro «La Luz[..]\nhttps://www.eventosdesegovia.com/e
 vents/conferencia-la-semana-santa-en-las-vidrieras-de-la-catedral-en-palaci
 o-episcopal/
URL:https://www.eventosdesegovia.com/events/conferencia-la-semana-santa-en-las-vidrieras-de-la-catedral-en-palacio-episcopal/
END:VEVENT
END:VCALENDAR