BEGIN:VCALENDAR
VERSION:2.0
PRODID:-//eventon.com NONSGML v1.0//EN
CALSCALE:GREGORIAN
METHOD:PUBLISH
BEGIN:VEVENT
UID:69e75d0b460dc
DTSTAMP:20260421T111835Z
DTSTART:20250328
DTEND:20250329
LOCATION:Casa Joven de Segovia Paseo de San Juan de la Cruz
SUMMARY:Taller 'Diseña tu tote bag' en Casa Joven
DESCRIPTION:Taller &#8216;Diseña tu tote bag&#8217;\,  28 de marzo de 18:0
 0 a 20:00 horas\,  en Casa Joven de Segovia. ¿Te gustaría personalizar tu
  propia bolsa de tela con un diseño único? En este taller aprenderemos la
  técnica del block printing\,  usando sellos hechos a mano. 📅 Viernes 2
 8 de marzo🕕 18-20[..]\nhttps://www.eventosdesegovia.com/events/taller-di
 sena-tu-tote-bag-en-casa-joven/
URL:https://www.eventosdesegovia.com/events/taller-disena-tu-tote-bag-en-casa-joven/
END:VEVENT
END:VCALENDAR