BEGIN:VCALENDAR
VERSION:2.0
PRODID:-//eventon.com NONSGML v1.0//EN
CALSCALE:GREGORIAN
METHOD:PUBLISH
BEGIN:VEVENT
UID:69e7a1e33bbb6
DTSTAMP:20260421T161219Z
DTSTART:20200927T183000Z
DTEND:20200927T200000Z
LOCATION:Teatro Juan Bravo Plaza Mayor\,  9
SUMMARY:Perfectos Desconocidos
DESCRIPTION:Perfectos Desconocidos\,  el 27 de Septiembre en el Teatro Juan
  Bravo de Segovia. COMPAÑÍA: Pentación Espectáculos DIRECCIÓN: Daniel
  Guzmán DRAMATURGIA: David Serrano y Daniel Guzmán (adaptación del text
 o de Paolo Genovese) INTÉRPRETES: Inge Martín\,  Álex Barahona\,  Olivi
 a Molina\,  Juan Carlos Vellido\,  Elena Ballesteros\,  Bart Santana e Isma
 el Fristchi FUNCIÓN: 20:30 h DURACIÓN: 1 h y[..]\nhttps://www.eventosde
 segovia.com/events/perfectos-desconocidos/
URL:https://www.eventosdesegovia.com/events/perfectos-desconocidos/
END:VEVENT
END:VCALENDAR