BEGIN:VCALENDAR
VERSION:2.0
PRODID:-//eventon.com NONSGML v1.0//EN
CALSCALE:GREGORIAN
METHOD:PUBLISH
BEGIN:VEVENT
UID:69eb2b0d2f3d2
DTSTAMP:20260424T083421Z
DTSTART:20250323
DTEND:20250324
LOCATION:
SUMMARY:Domingos de cuentos 'Fantásticas' en Colección de Títeres Francisco Peralta
DESCRIPTION:Domingos de cuentos &#8216;Fantásticas&#8217;\,  23 de marzo a
  las 12:00 horas\,  en Colección de Títeres Francisco Peralta ⭐ Domingo
 s de cuento es una experiencia teatral para vivir el fin de semana en famil
 ia a través de diferentes historias contadas de una forma muy emotiva y en
  un lugar único\,  el[..]\nhttps://www.eventosdesegovia.com/events/domingo
 s-de-cuentos-fantasticas-en-coleccion-de-titeres-francisco-peralta/
URL:https://www.eventosdesegovia.com/events/domingos-de-cuentos-fantasticas-en-coleccion-de-titeres-francisco-peralta/
END:VEVENT
END:VCALENDAR