BEGIN:VCALENDAR
VERSION:2.0
PRODID:-//eventon.com NONSGML v1.0//EN
CALSCALE:GREGORIAN
METHOD:PUBLISH
BEGIN:VEVENT
UID:69eb3f1178fb3
DTSTAMP:20260424T095945Z
DTSTART:20250321
DTEND:20250322
LOCATION:
SUMMARY:Presentación del disco de Lacaraba en Bar Santana
DESCRIPTION:Presentación del disco de Lacaraba\,  21 de marzo a las 20:00 
 horas\,  en Bar Santana El día del lanzamiento del nuevo álbum\,  se cele
 brará en el Bar Santana con una charla y escucha del disco\,  además de l
 a venta de nuevo merchandising\,  discos y sorteos.\nhttps://www.eventosdes
 egovia.com/events/presentacion-del-disco-de-lacaraba-en-bar-santana/
URL:https://www.eventosdesegovia.com/events/presentacion-del-disco-de-lacaraba-en-bar-santana/
END:VEVENT
END:VCALENDAR