BEGIN:VCALENDAR
VERSION:2.0
PRODID:-//eventon.com NONSGML v1.0//EN
CALSCALE:GREGORIAN
METHOD:PUBLISH
BEGIN:VEVENT
UID:69eb3f5b54d24
DTSTAMP:20260424T100059Z
DTSTART:20201004
DTEND:20201005
LOCATION:Catedral de Segovia Calle Marqués del Arco\,  1\,  Segovia
SUMMARY:Inauguración de la restauración del órgano del Evangelio
DESCRIPTION:Inauguración de la restauración del órgano del Evangelio de 
 la Catedral de Segovia El domingo 4 de octubre será la inauguración de la
  restauración del órgano del Evangelio tras más de 2 años de trabajo. H
 abrá dos actos inaugurales\,  uno durante la mañana con una Misa solemne 
 a las 11:00[..]\nhttps://www.eventosdesegovia.com/events/inauguracion-de-la
 -restauracion-del-organo-del-evangelio/
URL:https://www.eventosdesegovia.com/events/inauguracion-de-la-restauracion-del-organo-del-evangelio/
END:VEVENT
END:VCALENDAR