BEGIN:VCALENDAR
VERSION:2.0
PRODID:-//eventon.com NONSGML v1.0//EN
CALSCALE:GREGORIAN
METHOD:PUBLISH
BEGIN:VEVENT
UID:69ea391469309
DTSTAMP:20260423T152156Z
DTSTART:20201003
DTEND:20201004
LOCATION:La Pinilla Bike Park Carretera de Pinilla\,  8\,  40592 La Pinilla\,  Segovia
SUMMARY:Red Bull Holy Bike 2020
DESCRIPTION:Red Bull Holy Bike 2020 ✅ La temporada de bikepark está lleg
 ando a su fin y no podíamos quedarnos sin vivir un fin de semana de Red Bu
 ll Holy Bike. Con la esencia de este evento\,  “disfrutar al máximo de u
 n finde de bikepark”\,  y siguiendo todas las normativas de[..]\nhttps://
 www.eventosdesegovia.com/events/red-bull-holy-bike-2020/
URL:https://www.eventosdesegovia.com/events/red-bull-holy-bike-2020/
END:VEVENT
END:VCALENDAR