BEGIN:VCALENDAR
VERSION:2.0
PRODID:-//eventon.com NONSGML v1.0//EN
CALSCALE:GREGORIAN
METHOD:PUBLISH
BEGIN:VEVENT
UID:69e8a08eb55c5
DTSTAMP:20260422T101854Z
DTSTART:20250616T070000Z
DTEND:20250622T120000Z
LOCATION:Fronton Segovia Fronton Segovia
SUMMARY:Campeonato de EspaÃ±a de Boxeo en FrontÃ³n Segovia
DESCRIPTION:Campeonato de EspaÃ±a de Boxeo\,  del 16 al 22 de junio\,  en F
 rontÃ³n Segovia El lunes llegarÃ¡n los pÃºgiles y tendrÃ¡ lugar el sorteo.Â
   El martes comenzarÃ¡n a disputarse las rondas. Desde las 15:30 horas hast
 a las 21:00 horas podrÃ¡n disfrutarse los combates en el FrontÃ³n Segovia. 
 El viernes y[..]\nhttps://www.eventosdesegovia.com/events/campeonato-de-esp
 ana-de-boxeo-en-fronton-segovia/
URL:https://www.eventosdesegovia.com/events/campeonato-de-espana-de-boxeo-en-fronton-segovia/
END:VEVENT
END:VCALENDAR