BEGIN:VCALENDAR
VERSION:2.0
PRODID:-//eventon.com NONSGML v1.0//EN
CALSCALE:GREGORIAN
METHOD:PUBLISH
BEGIN:VEVENT
UID:69e887e48e41d
DTSTAMP:20260422T083340Z
DTSTART:20250425
DTEND:20250426
LOCATION:Casa de la Lectura – Biblioteca Municipal Calle Juan Bravo\,  11
SUMMARY:Cuentacuentos 'Cuentos y cometas' en La Casa de Lectura
DESCRIPTION:Cuentacuentos &#8216;Cuentos y cometas&#8217; en La Casa de Lec
 tura\,  25 de abril a las 18:30 h\,  en La Casa de Lectura Espectáculo de 
 cuentos para volar alto\,  alto con la imaginación al igual que las cometa
 s. Un universo de animales poetas\,  de versos inquietos\,  de poesía visu
 al y de ritmos[..]\nhttps://www.eventosdesegovia.com/events/cuentacuentos-c
 uentos-y-cometas-en-la-casa-de-lectura/
URL:https://www.eventosdesegovia.com/events/cuentacuentos-cuentos-y-cometas-en-la-casa-de-lectura/
END:VEVENT
END:VCALENDAR