BEGIN:VCALENDAR
VERSION:2.0
PRODID:-//eventon.com NONSGML v1.0//EN
CALSCALE:GREGORIAN
METHOD:PUBLISH
BEGIN:VEVENT
UID:69e76312019e8
DTSTAMP:20260421T114418Z
DTSTART:20250427
DTEND:20250428
LOCATION:Plaza Mayor de Segovia Plaza Mayor\,  1\,  40001 Segovia
SUMMARY:Vermut Musical 2025 Segovia
DESCRIPTION:Vermut Musical en Segovia\,  del 27 de abril al 8 de junio (dom
 ingos de primavera)\,  en la Plaza Mayor de Segovia. El primero de los conc
 iertos será el domingo 27 de abril\,  a cargo de la Banda Municipal de Coc
 a. En esta nueva propuesta participarán 6 bandas de música: la[..]\nhttps
 ://www.eventosdesegovia.com/events/vermut-musical-2025-segovia/
URL:https://www.eventosdesegovia.com/events/vermut-musical-2025-segovia/
END:VEVENT
END:VCALENDAR