BEGIN:VCALENDAR
VERSION:2.0
PRODID:-//eventon.com NONSGML v1.0//EN
CALSCALE:GREGORIAN
METHOD:PUBLISH
BEGIN:VEVENT
UID:69e775e987191
DTSTAMP:20260421T130441Z
DTSTART:20200207
DTEND:20200208
LOCATION:Cantalejo Cantalejo
SUMMARY:XVI Troreal KINGSCUP CANTALEJO 2020
DESCRIPTION:XVI Troreal KINGSCUP CANTALEJO 2020 Los días 7\,  8 y 9 de feb
 rero de 20202\,  en Cantalejo\,  XVI Troreal KINGSCUP CANTALEJO 2020\nhttps
 ://www.eventosdesegovia.com/events/xvi-troreal-kingscup-cantalejo-2020/
URL:https://www.eventosdesegovia.com/events/xvi-troreal-kingscup-cantalejo-2020/
END:VEVENT
END:VCALENDAR