BEGIN:VCALENDAR
VERSION:2.0
PRODID:-//eventon.com NONSGML v1.0//EN
CALSCALE:GREGORIAN
METHOD:PUBLISH
BEGIN:VEVENT
UID:69e8b10994ee0
DTSTAMP:20260422T112913Z
DTSTART:20250503
DTEND:20250504
LOCATION:La Cárcel_Centro de Creación Av. Juan Carlos I
SUMMARY:Primavera Teatral de Segovia 2025
DESCRIPTION:Primavera Teatral de Segovia 2025\,  durante los meses de mayo 
 y junio\,  en La Cárcel Centro de Creación y en la iglesia de San Nicolá
 s. El precio de las entradas oscilará entre los 3 y los 10 euros. Sígueno
 s en nuestro canal de Whatsapp: Número de representaciones: Cerca de 20[..
 ]\nhttps://www.eventosdesegovia.com/events/primavera-teatral-de-segovia-202
 5/
URL:https://www.eventosdesegovia.com/events/primavera-teatral-de-segovia-2025/
END:VEVENT
END:VCALENDAR