BEGIN:VCALENDAR
VERSION:2.0
PRODID:-//eventon.com NONSGML v1.0//EN
CALSCALE:GREGORIAN
METHOD:PUBLISH
BEGIN:VEVENT
UID:69e77672e89f0
DTSTAMP:20260421T130658Z
DTSTART:20250430
DTEND:20250501
LOCATION:Casa de la Lectura – Biblioteca Municipal Calle Juan Bravo\,  11
SUMMARY:Exposición POEMA DE CHILE DE MANOLO VALMORISCO
DESCRIPTION:Exposición POEMA DE CHILE DE MANOLO VALMORISCO\,  del 30 de ab
 ril al 9 de junio de 2025 en la Casa de la Lectura de Segovia\,  Manolo Val
 morisco estrena por primera vez en este espacio su serie Poema de Chile. Es
 ta exposición nace de una casualidad. En Octubre de 2002\,  Valmorisco[..]
 \nhttps://www.eventosdesegovia.com/events/exposicion-poema-de-chile-de-mano
 lo-valmorisco/
URL:https://www.eventosdesegovia.com/events/exposicion-poema-de-chile-de-manolo-valmorisco/
END:VEVENT
END:VCALENDAR