BEGIN:VCALENDAR
VERSION:2.0
PRODID:-//eventon.com NONSGML v1.0//EN
CALSCALE:GREGORIAN
METHOD:PUBLISH
BEGIN:VEVENT
UID:69e7c72b946a1
DTSTAMP:20260421T185123Z
DTSTART:20250510T160000Z
DTEND:20250510T180000Z
LOCATION:Cuéllar Cuéllar
SUMMARY:Campeonato Catan en la Casa Joven de Cuéllar
DESCRIPTION:Campeonato Catan en la Casa Joven de Cuéllar\,  el 10 de Mayo 
 de 2025 de 18:00 a 20:00 Síguenos en nuestro canal de Whatsapp:\nhttps://w
 ww.eventosdesegovia.com/events/campeonato-catan-en-la-casa-joven-de-cuellar
 /
URL:https://www.eventosdesegovia.com/events/campeonato-catan-en-la-casa-joven-de-cuellar/
END:VEVENT
END:VCALENDAR