BEGIN:VCALENDAR
VERSION:2.0
PRODID:-//eventon.com NONSGML v1.0//EN
CALSCALE:GREGORIAN
METHOD:PUBLISH
BEGIN:VEVENT
UID:69e74e693b3a4
DTSTAMP:20260421T101609Z
DTSTART:20250510T150000Z
DTEND:20250510T190000Z
LOCATION:Riaza Riaza
SUMMARY:IV Jornada Intercultural - Cultura de Colores en Riaza
DESCRIPTION:IV Jornada Intercultural &#8211; Cultura de Colores en Riaza\, 
  el 10 de Mayo de 2025 a partir de las 17:00 en la Plaza Mayor. Síguenos e
 n nuestro canal de Whatsapp:\nhttps://www.eventosdesegovia.com/events/iv-jo
 rnada-intercultural-cultura-de-colores-en-riaza/
URL:https://www.eventosdesegovia.com/events/iv-jornada-intercultural-cultura-de-colores-en-riaza/
END:VEVENT
END:VCALENDAR