BEGIN:VCALENDAR
VERSION:2.0
PRODID:-//eventon.com NONSGML v1.0//EN
CALSCALE:GREGORIAN
METHOD:PUBLISH
BEGIN:VEVENT
UID:69e887674b5fe
DTSTAMP:20260422T083135Z
DTSTART:20250614
DTEND:20250615
LOCATION:
SUMMARY:Taller 'La calle sin fin' en La Cárcel
DESCRIPTION:Taller «La calle sin fin»\,  14 de junio\,  en La Cárcel\nht
 tps://www.eventosdesegovia.com/events/taller-la-calle-sin-fin-en-la-carcel/
URL:https://www.eventosdesegovia.com/events/taller-la-calle-sin-fin-en-la-carcel/
END:VEVENT
END:VCALENDAR