BEGIN:VCALENDAR
VERSION:2.0
PRODID:-//eventon.com NONSGML v1.0//EN
CALSCALE:GREGORIAN
METHOD:PUBLISH
BEGIN:VEVENT
UID:69e774b1095c0
DTSTAMP:20260421T125929Z
DTSTART:20250517
DTEND:20250518
LOCATION:Segovia Segovia
SUMMARY:'Taller de música y naturaleza' en Aula de la Naturaleza de Revenga
DESCRIPTION:&#8216;Taller de música y naturaleza&#8217;\,  17 de mayo a la
 s 10:30 horas\,  en Aula de la Naturaleza de Revenga (C. de la Iglesia\,  2
 1). Taller práctico con sonidos que recolectaremos en el propio entorno de
  Revenga y con los que luego realizaremos propuestas musicales. No es neces
 ario tener conocimientos musicales[..]\nhttps://www.eventosdesegovia.com/ev
 ents/taller-de-musica-y-naturaleza-en-aula-de-la-naturaleza-de-revenga/
URL:https://www.eventosdesegovia.com/events/taller-de-musica-y-naturaleza-en-aula-de-la-naturaleza-de-revenga/
END:VEVENT
END:VCALENDAR