BEGIN:VCALENDAR
VERSION:2.0
PRODID:-//eventon.com NONSGML v1.0//EN
CALSCALE:GREGORIAN
METHOD:PUBLISH
BEGIN:VEVENT
UID:69e89d69d58d3
DTSTAMP:20260422T100529Z
DTSTART:20250516T170000Z
DTEND:20250516T180000Z
LOCATION:El Espinar
SUMMARY:Tutankamón\,  el niño faraón: Espectáculo teatral gratuito en El Espinar
DESCRIPTION:Tutankamón\,  el niño faraón: Espectáculo teatral gratuito 
 en El Espinar\,  el próximo viernes 16 de mayo a las 19:00h en la Plaza de
  la Constitución de El Espinar\,  no te pierdas la nueva edición de «Tit
 imundi a El Espinar» con el espectacular montaje teatral «Tutankamón\,  
 el niño faraón y la[..]\nhttps://www.eventosdesegovia.com/events/tutankam
 on-el-nino-faraon-espectaculo-teatral-gratuito-en-el-espinar/
URL:https://www.eventosdesegovia.com/events/tutankamon-el-nino-faraon-espectaculo-teatral-gratuito-en-el-espinar/
END:VEVENT
END:VCALENDAR