BEGIN:VCALENDAR
VERSION:2.0
PRODID:-//eventon.com NONSGML v1.0//EN
CALSCALE:GREGORIAN
METHOD:PUBLISH
BEGIN:VEVENT
UID:69e88ac80e32d
DTSTAMP:20260422T084600Z
DTSTART:20250516
DTEND:20250517
LOCATION:Casa de la Lectura – Biblioteca Municipal Calle Juan Bravo\,  11
SUMMARY:Presentación de 'Sociedad posinteligencia' en Casa de la Lectura
DESCRIPTION:Presentación de Sociedad posinteligencia\,  16 de mayo a las 1
 8:30 horas\,  en Casa de la Lectura. Una guía práctica para vivir en un m
 undo donde las máquinas con inteligencia artificial pensarán y tomarán d
 ecisiones por nosotros. 📌“Un libro claro y didáctico\,  para todos lo
 s públicos\,  imprescindible para no perder el[..]\nhttps://www.eventosdes
 egovia.com/events/presentacion-de-sociedad-posinteligencia-en-casa-de-la-le
 ctura/
URL:https://www.eventosdesegovia.com/events/presentacion-de-sociedad-posinteligencia-en-casa-de-la-lectura/
END:VEVENT
END:VCALENDAR