BEGIN:VCALENDAR
VERSION:2.0
PRODID:-//eventon.com NONSGML v1.0//EN
CALSCALE:GREGORIAN
METHOD:PUBLISH
BEGIN:VEVENT
UID:69e8b261dd848
DTSTAMP:20260422T113457Z
DTSTART:20250517
DTEND:20250518
LOCATION:Hontanares de Eresma Hontanares de Eresma
SUMMARY:Fiesta Andaluza en Vente Muyayo en Hontanares de Eresma
DESCRIPTION:Fiesta Andaluza en Vente Muyayo en Hontanares de Eresma\,  el s
 ábado 17 de mayo de 2025\,  la Cafetería-Bar «Vente Muyayo&#8230;» en H
 ontanares de Eresma se llenará de alegría y color con su «Fiesta Andaluz
 a». Prepárate para disfrutar de una experiencia única con música en viv
 o\,  baile y los auténticos sabores[..]\nhttps://www.eventosdesegovia.com/
 events/fiesta-andaluza-en-vente-muyayo-en-hontanares-de-eresma/
URL:https://www.eventosdesegovia.com/events/fiesta-andaluza-en-vente-muyayo-en-hontanares-de-eresma/
END:VEVENT
END:VCALENDAR