BEGIN:VCALENDAR
VERSION:2.0
PRODID:-//eventon.com NONSGML v1.0//EN
CALSCALE:GREGORIAN
METHOD:PUBLISH
BEGIN:VEVENT
UID:69e775da7ddc0
DTSTAMP:20260421T130426Z
DTSTART:20250517
DTEND:20250518
LOCATION:Sigueruelo Sigueruelo
SUMMARY:Fiesta de las Flores en Sigueruelo 2025
DESCRIPTION:Fiesta de las Flores en Sigueruelo 2025\,  celebra la Fiesta de
  las Flores en Sigueruelo el 17 de mayo de 2025. La jornada comenzará a la
 s 12:00h con una misa y procesión en la ermita\,  seguida de una romería 
 a las 13:00h donde cada uno llevará su comida y bebida.[..]\nhttps://www.e
 ventosdesegovia.com/events/fiesta-de-las-flores-en-sigueruelo-2025/
URL:https://www.eventosdesegovia.com/events/fiesta-de-las-flores-en-sigueruelo-2025/
END:VEVENT
END:VCALENDAR