BEGIN:VCALENDAR
VERSION:2.0
PRODID:-//eventon.com NONSGML v1.0//EN
CALSCALE:GREGORIAN
METHOD:PUBLISH
BEGIN:VEVENT
UID:69e89c0db0348
DTSTAMP:20260422T095941Z
DTSTART:20250520
DTEND:20250521
LOCATION:
SUMMARY:Conferencia 'El Acueducto\,  esplendor del Imperio de Trajano y Adriano' en Casa de la Lectura
DESCRIPTION:Conferencia &#8216;El Acueducto\,  esplendor del Imperio de Tra
 jano y Adriano&#8217;\,  20 de mayo a las 18:00 horas\,  en Casa de la Lect
 ura Martes\,  20 de mayo a las 18:00 h.CONFERENCIA: EL ACUEDUCTO\,  ESPLEND
 OR DEL IMPERIO DE TRAJANO Y ADRIANO.PONENTE\,  SANTIAGO MARTÍNEZ CABALLERO
  El Acueducto constituye la expresión material más emblemática[..]\nhttp
 s://www.eventosdesegovia.com/events/conferencia-el-acueducto-esplendor-del-
 imperio-de-trajano-y-adriano-en-casa-de-la-lectura/
URL:https://www.eventosdesegovia.com/events/conferencia-el-acueducto-esplendor-del-imperio-de-trajano-y-adriano-en-casa-de-la-lectura/
END:VEVENT
END:VCALENDAR