BEGIN:VCALENDAR
VERSION:2.0
PRODID:-//eventon.com NONSGML v1.0//EN
CALSCALE:GREGORIAN
METHOD:PUBLISH
BEGIN:VEVENT
UID:69e8b10c25ec9
DTSTAMP:20260422T112916Z
DTSTART:20250614
DTEND:20250615
LOCATION:
SUMMARY:Segovia Picnic Day 2025
DESCRIPTION:Segovia Picnic Day\,  14 de junio de 12.00 a 0.00 horas\,  en d
 iferentes zonas en&nbsp;el entorno de la Fuencisla y la Pradera de San Marc
 os. Síguenos en nuestro canal de Whatsapp: 1) La Alameda de la Fuencisla a
 cogerá la zona ‘free picnic’ y la zona infantil. 2) La Pradera de[..]\
 nhttps://www.eventosdesegovia.com/events/segovia-picnic-day-2025/
URL:https://www.eventosdesegovia.com/events/segovia-picnic-day-2025/
END:VEVENT
END:VCALENDAR