BEGIN:VCALENDAR
VERSION:2.0
PRODID:-//eventon.com NONSGML v1.0//EN
CALSCALE:GREGORIAN
METHOD:PUBLISH
BEGIN:VEVENT
UID:69e8b252ac042
DTSTAMP:20260422T113442Z
DTSTART:20250520
DTEND:20250521
LOCATION:
SUMMARY:Exposición Muñecas Segovianas en Diputación
DESCRIPTION:Exposición Muñecas Segovianas\,  del 20 de mayo al 30 de juni
 o\,  en Patio de Columnas de Diputación.  ⏰Lunes a viernes de 9:00 a 14
 :00 y de 17:00 a 20:00 📅Hasta el 30 de junio\nhttps://www.eventosdesegov
 ia.com/events/exposicion-munecas-segovianas-en-diputacion/
URL:https://www.eventosdesegovia.com/events/exposicion-munecas-segovianas-en-diputacion/
END:VEVENT
END:VCALENDAR