BEGIN:VCALENDAR
VERSION:2.0
PRODID:-//eventon.com NONSGML v1.0//EN
CALSCALE:GREGORIAN
METHOD:PUBLISH
BEGIN:VEVENT
UID:69e88ac31278b
DTSTAMP:20260422T084555Z
DTSTART:20250524
DTEND:20250525
LOCATION:Valverde del Majano Valverde del Majano
SUMMARY:CONCENTRACIÓN Ford Mustang en Valverde del Majano
DESCRIPTION:CONCENTRACIÓN Ford Mustang en Valverde del Majano\,  Valverde 
 del Majano acoge un6a emocionante concentración el 24 de mayo\,  con activ
 idades para los amantes del motor y la música\,  desde las 16:30. Música 
 en directo. Servicio de barra. Perritos calientes y hamburguesas. Un fantá
 stico ambiente. Sorteo: Yamaha Neox\,  con participación de[..]\nhttps://w
 ww.eventosdesegovia.com/events/concentracion-ford-mustang-en-valverde-del-m
 ajano/
URL:https://www.eventosdesegovia.com/events/concentracion-ford-mustang-en-valverde-del-majano/
END:VEVENT
END:VCALENDAR