BEGIN:VCALENDAR
VERSION:2.0
PRODID:-//eventon.com NONSGML v1.0//EN
CALSCALE:GREGORIAN
METHOD:PUBLISH
BEGIN:VEVENT
UID:69e4e1b7e8d2f
DTSTAMP:20260419T140751Z
DTSTART:20250531
DTEND:20250601
LOCATION:Torreón de Lozoya Plaza San Martín\,  5\,  40001 Segovia
SUMMARY:Inauguración de la exposición colectiva 'Arquitectura invisible' en Torreón de Lozoya
DESCRIPTION:Inauguración de la exposición colectiva &#8216;Arquitectura i
 nvisible&#8217;\,  31 de mayo a las 19:30 horas\,  en el Torreón de Lozoya
 . El proyecto “ARQUITECTURA INVISIBLE” es una iniciativa artística que
  busca explorar la relación entre la introspección y la creación visual 
 a través de la construcción arquitectónica dando soluciones poéticas\, 
  aparentemente invisibles[..]\nhttps://www.eventosdesegovia.com/events/inau
 guracion-de-la-exposicion-colectiva-arquitectura-invisible-en-torreon-de-lo
 zoya/
URL:https://www.eventosdesegovia.com/events/inauguracion-de-la-exposicion-colectiva-arquitectura-invisible-en-torreon-de-lozoya/
END:VEVENT
END:VCALENDAR