BEGIN:VCALENDAR
VERSION:2.0
PRODID:-//eventon.com NONSGML v1.0//EN
CALSCALE:GREGORIAN
METHOD:PUBLISH
BEGIN:VEVENT
UID:69e76259a2aba
DTSTAMP:20260421T114113Z
DTSTART:20250526
DTEND:20250527
LOCATION:
SUMMARY:Conciertos en Conservatorio de Segovia
DESCRIPTION:Conciertos\,  del 26 al 30 de mayo\,  en Conservatorio de Segov
 ia\nhttps://www.eventosdesegovia.com/events/conciertos-en-conservatorio-de-
 segovia-5/
URL:https://www.eventosdesegovia.com/events/conciertos-en-conservatorio-de-segovia-5/
END:VEVENT
END:VCALENDAR