BEGIN:VCALENDAR
VERSION:2.0
PRODID:-//eventon.com NONSGML v1.0//EN
CALSCALE:GREGORIAN
METHOD:PUBLISH
BEGIN:VEVENT
UID:69e73d3e24bf8
DTSTAMP:20260421T090254Z
DTSTART:20250530
DTEND:20250531
LOCATION:Sepúlveda Sepúlveda
SUMMARY:XIII Certamen de Teatro "Siete Llaves" en Sepúlveda
DESCRIPTION:El XIII Certamen de Teatro «Siete Llaves» se desarrollará en
  Sepúlveda\,  en el Teatro Bretón\,  a las 22:00 h\,  con diversas obras 
 a lo largo de mayo y junio. Lugar: Teatro Bretón\,  Sepúlveda. Hora: 22:0
 0 h. Entrada: 6 €. Entrada juvenil: 3€ (hasta 20 años). Abono para las
  Siete Funciones:[..]\nhttps://www.eventosdesegovia.com/events/xiii-certame
 n-de-teatro-siete-llaves-en-sepulveda/
URL:https://www.eventosdesegovia.com/events/xiii-certamen-de-teatro-siete-llaves-en-sepulveda/
END:VEVENT
END:VCALENDAR