BEGIN:VCALENDAR
VERSION:2.0
PRODID:-//eventon.com NONSGML v1.0//EN
CALSCALE:GREGORIAN
METHOD:PUBLISH
BEGIN:VEVENT
UID:69e88a484f062
DTSTAMP:20260422T084352Z
DTSTART:20250602
DTEND:20250603
LOCATION:Museo de Arte Contemporáneo Esteban Vicente Plaza Bellas Artes\,  0\,  Segovia
SUMMARY:Segovianos que hablan de Segovia - Marqués de Lozoya
DESCRIPTION:Segovianos que hablan de Segovia: Juan de Contreras y López de
  Ayala &#8216;Marqués de Lozoya&#8217;\,  2 de junio a las 19:30 horas\,  
 en Museo Esteban Vicente. Entrada libre (aforo limitado). AMIGOS DEL PATRIM
 ONIO DE SEGOVIA ORGANIZA: XI CICLO “SEGOVIANOS QUE HABLAN DE SEGOVIA” (
 2024-25) Fuente: Facebook Más información: amigosdelpatrimoniodesegovia.e
 s\nhttps://www.eventosdesegovia.com/events/segovianos-que-hablan-de-segovia
 -marques-de-lozoya-2/
URL:https://www.eventosdesegovia.com/events/segovianos-que-hablan-de-segovia-marques-de-lozoya-2/
END:VEVENT
END:VCALENDAR