BEGIN:VCALENDAR
VERSION:2.0
PRODID:-//eventon.com NONSGML v1.0//EN
CALSCALE:GREGORIAN
METHOD:PUBLISH
BEGIN:VEVENT
UID:69e74f0da5111
DTSTAMP:20260421T101853Z
DTSTART:20250608
DTEND:20250609
LOCATION:
SUMMARY:Actividades Junio 2025 AVVV.Sta. Teresa Puente Hierro
DESCRIPTION:Actividades Junio 2025 AVVV.Sta. Teresa Puente Hierro *La activ
 idad «Mi barrio\,  limpio y reluciente»\,  programada para el 22 de junio
 \,  ha sido aplazada por alerta amarilla por altas temperaturas. Se comunic
 ará nueva fecha. Más información:Facebook\nhttps://www.eventosdesegovia.
 com/events/actividades-junio-2025-avvv-sta-teresa-puente-hierro/
URL:https://www.eventosdesegovia.com/events/actividades-junio-2025-avvv-sta-teresa-puente-hierro/
END:VEVENT
END:VCALENDAR