BEGIN:VCALENDAR
VERSION:2.0
PRODID:-//eventon.com NONSGML v1.0//EN
CALSCALE:GREGORIAN
METHOD:PUBLISH
BEGIN:VEVENT
UID:69e7a1388fa49
DTSTAMP:20260421T160928Z
DTSTART:20250629
DTEND:20250630
LOCATION:
SUMMARY:Toros Segovia 2025 San Juan y San Pedro
DESCRIPTION:Toros Segovia 2025\,  29 de junio a las 19:30 horas\,  en Plaza
  de Toros de Segovia. Seis toros de la ganadería de Alcurrucén (encaste N
 úñez) con Miguel Ángel Perera\,  Alejandro Talavante y Daniel Luque. ENT
 RADAS Los precios de entradas serán los mismos que la última corrida cele
 brada\,  en 2022. Las[..]\nhttps://www.eventosdesegovia.com/events/toros-se
 govia-2025-san-juan-y-san-pedro/
URL:https://www.eventosdesegovia.com/events/toros-segovia-2025-san-juan-y-san-pedro/
END:VEVENT
END:VCALENDAR