BEGIN:VCALENDAR
VERSION:2.0
PRODID:-//eventon.com NONSGML v1.0//EN
CALSCALE:GREGORIAN
METHOD:PUBLISH
BEGIN:VEVENT
UID:69e762b02cd75
DTSTAMP:20260421T114240Z
DTSTART:20250608
DTEND:20250609
LOCATION:Otero de Herreros Otero de Herreros
SUMMARY:Marcha MTB La Tocata de Otero de Herreros
DESCRIPTION:Marcha MTB La Tocata de Otero de Herreros\,  el 8 de Junio de 2
 025 en Otero de Herreros. ¡Ya están abiertas las inscripciones para la ma
 rcha MTB La Tocata de Otero de Herreros! Un evento que llena de ilusión y 
 ganas a todos. Con una sólida organización\,  estaremos listos para[..]\n
 https://www.eventosdesegovia.com/events/marcha-mtb-la-tocata-de-otero-de-he
 rreros/
URL:https://www.eventosdesegovia.com/events/marcha-mtb-la-tocata-de-otero-de-herreros/
END:VEVENT
END:VCALENDAR