BEGIN:VCALENDAR
VERSION:2.0
PRODID:-//eventon.com NONSGML v1.0//EN
CALSCALE:GREGORIAN
METHOD:PUBLISH
BEGIN:VEVENT
UID:69e76f56e5609
DTSTAMP:20260421T123638Z
DTSTART:20250608
DTEND:20250609
LOCATION:Catedral de Segovia Calle MarquÃ©s del Arco\,  1\,  Segovia
SUMMARY:Misa conmemorativa del V Centenario de la Catedral de Segovia
DESCRIPTION:Misa conmemorativa del V Centenario de la Catedral de Segovia\,
   8 de junio a las 10:30 horas\,  con motivo del 500 aniversario de la colo
 caciÃ³n de la primera piedra de la construcciÃ³n del templo. SerÃ¡ con una 
 misa conmemorativa\,  a las 10:30\,  retransmitida por La 2 de RTVE. EstarÃ
 ¡ presidida[..]\nhttps://www.eventosdesegovia.com/events/misa-conmemorativa
 -del-v-centenario-de-la-catedral-de-segovia/
URL:https://www.eventosdesegovia.com/events/misa-conmemorativa-del-v-centenario-de-la-catedral-de-segovia/
END:VEVENT
END:VCALENDAR