BEGIN:VCALENDAR
VERSION:2.0
PRODID:-//eventon.com NONSGML v1.0//EN
CALSCALE:GREGORIAN
METHOD:PUBLISH
BEGIN:VEVENT
UID:69e7a663998f1
DTSTAMP:20260421T163131Z
DTSTART:20250701
DTEND:20250702
LOCATION:Trescasas Trescasas
SUMMARY:Tenis de Mesa en Verano 2025 para Adultos en Trescasas
DESCRIPTION:Tenis de Mesa en Verano 2025 para Adultos en Trescasas\,  cada 
 lunes de julio y agosto en el Polideportivo La Flecha (Trescasas\,  Segovia
 ) de 18:00 a 20:00\,  Socios: 25€/mes | No socios: 35€ Inscripciones: a
 tmtrescasas@gmail.com\nhttps://www.eventosdesegovia.com/events/tenis-de-mes
 a-en-verano-2025-para-adultos-en-trescasas/
URL:https://www.eventosdesegovia.com/events/tenis-de-mesa-en-verano-2025-para-adultos-en-trescasas/
END:VEVENT
END:VCALENDAR