BEGIN:VCALENDAR
VERSION:2.0
PRODID:-//eventon.com NONSGML v1.0//EN
CALSCALE:GREGORIAN
METHOD:PUBLISH
BEGIN:VEVENT
UID:69e8a0f553a63
DTSTAMP:20260422T102037Z
DTSTART:20250608T173000Z
DTEND:20250608T190000Z
LOCATION:Cuéllar Cuéllar
SUMMARY:Teatro "El Tesoro de Mala Pata" en Cuéllar
DESCRIPTION:Teatro «El Tesoro de Mala Pata» en Cuéllar\,  el domingo 8 d
 e junio a las 19:30h en los Paseos de San Francisco ¡Prepárate para una a
 ventura llena de risas y misterio con la obra de teatro «El Tesoro de Mala
  Pata» de Kamaru Teatro! La entrada es gratuita hasta completar[..]\nhttps
 ://www.eventosdesegovia.com/events/teatro-el-tesoro-de-mala-pata-en-cuellar
 /
URL:https://www.eventosdesegovia.com/events/teatro-el-tesoro-de-mala-pata-en-cuellar/
END:VEVENT
END:VCALENDAR