BEGIN:VCALENDAR
VERSION:2.0
PRODID:-//eventon.com NONSGML v1.0//EN
CALSCALE:GREGORIAN
METHOD:PUBLISH
BEGIN:VEVENT
UID:69eb3f3f82a90
DTSTAMP:20260424T100031Z
DTSTART:20250606
DTEND:20250607
LOCATION:
SUMMARY:Exposición 'Todos en Segovia: 100 años del Archivo en la Alhóndiga'
DESCRIPTION:Exposición &#8216;Todos en Segovia: 100 años del Archivo en l
 a Alhóndiga&#8217;\,  del 6 al 29 de junio. CALENDARIO DE ACTIVIDADES. 6 d
 e junio de 2025\,  a las 11:00h. Inauguración de las exposiciones en el A
 rchivo Municipal de Segovia – Sala de la Alhóndiga el viernes (Plza. Alh
 óndiga\,  10. 40001\,  Segovia). Se[..]\nhttps://www.eventosdesegovia.com/
 events/exposicion-todos-en-segovia-100-anos-del-archivo-en-la-alhondiga/
URL:https://www.eventosdesegovia.com/events/exposicion-todos-en-segovia-100-anos-del-archivo-en-la-alhondiga/
END:VEVENT
END:VCALENDAR