BEGIN:VCALENDAR
VERSION:2.0
PRODID:-//eventon.com NONSGML v1.0//EN
CALSCALE:GREGORIAN
METHOD:PUBLISH
BEGIN:VEVENT
UID:69e755f87be6c
DTSTAMP:20260421T104824Z
DTSTART:20250609
DTEND:20250610
LOCATION:Centro Social Corpus Calle Juan Bravo\,  2
SUMMARY:Exposiciones colectivas del Aula de Fotografía de Segovia en Centro Corpus
DESCRIPTION:Exposiciones colectivas de los talleres del Aula de Fotografía
  de Segovia\,  del 9 al 22 de junio\,  en Centro Social Corpus (C/ Juan Bra
 vo\,  2).&nbsp; Síguenos en nuestro canal de Whatsapp: El Centro Social Co
 rpus de la Fundación Torreón de Lozoya acoge del 9 al 22 de junio las exp
 osiciones[..]\nhttps://www.eventosdesegovia.com/events/exposiciones-colecti
 vas-del-aula-de-fotografia-de-segovia-en-centro-corpus/
URL:https://www.eventosdesegovia.com/events/exposiciones-colectivas-del-aula-de-fotografia-de-segovia-en-centro-corpus/
END:VEVENT
END:VCALENDAR