BEGIN:VCALENDAR
VERSION:2.0
PRODID:-//eventon.com NONSGML v1.0//EN
CALSCALE:GREGORIAN
METHOD:PUBLISH
BEGIN:VEVENT
UID:69e7700f95489
DTSTAMP:20260421T123943Z
DTSTART:20250613
DTEND:20250614
LOCATION:Roda de Eresma Roda de Eresma
SUMMARY:Fiestas en Honor a San Antonio de Padua 2025 en Roda de Eresma
DESCRIPTION:Fiestas en Honor a San Antonio de Padua 2025 en Roda de Eresma\
 ,  Roda de Eresma se engalana para celebrar sus Fiestas en Honor a San Anto
 nio de Padua los días 13 y 14 de junio de 2025. Síguenos en nuestro canal
  de Whatsapp: El viernes 13 a las 00:30h\, [..]\nhttps://www.eventosdesegov
 ia.com/events/fiestas-en-honor-a-san-antonio-de-padua-2025-en-roda-de-eresm
 a/
URL:https://www.eventosdesegovia.com/events/fiestas-en-honor-a-san-antonio-de-padua-2025-en-roda-de-eresma/
END:VEVENT
END:VCALENDAR