BEGIN:VCALENDAR
VERSION:2.0
PRODID:-//eventon.com NONSGML v1.0//EN
CALSCALE:GREGORIAN
METHOD:PUBLISH
BEGIN:VEVENT
UID:69e88b236346d
DTSTAMP:20260422T084731Z
DTSTART:20250615T160000Z
DTEND:20250615T183000Z
LOCATION:Otero de Herreros Otero de Herreros
SUMMARY:Torneo Frontenis 2025 en el Frontón de Otero de Herreros
DESCRIPTION:Torneo Frontenis 2025 en el Frontón de Otero de Herreros\,  El
  Frontón de Otero de Herreros será el escenario del Torneo de Frontenis e
 l domingo 15 de junio de 2025\,  desde las 18:00h hasta las 20:30h. Síguen
 os en nuestro canal de Whatsapp: Las inscripciones para este torneo\,  que 
 se jugará[..]\nhttps://www.eventosdesegovia.com/events/torneo-frontenis-20
 25-en-el-fronton-de-otero-de-herreros/
URL:https://www.eventosdesegovia.com/events/torneo-frontenis-2025-en-el-fronton-de-otero-de-herreros/
END:VEVENT
END:VCALENDAR