BEGIN:VCALENDAR
VERSION:2.0
PRODID:-//eventon.com NONSGML v1.0//EN
CALSCALE:GREGORIAN
METHOD:PUBLISH
BEGIN:VEVENT
UID:69e73b487e3db
DTSTAMP:20260421T085432Z
DTSTART:20250614
DTEND:20250615
LOCATION:Santo Domingo de Pirón
SUMMARY:Fiesta en honor a San Antonio 2025 en Santo Domingo de Pirón
DESCRIPTION:Fiesta en honor a San Antonio 2025 en Santo Domingo de Pirón\,
   el 14 de Junio de 2025\,  Celebra la «Fiesta en Honor a San Antonio 2025
 » en Santo Domingo de Pirón con un día lleno de actividades para todos. 
 Desde actos religiosos hasta comidas populares y juegos\,  ¡hay algo[..]\n
 https://www.eventosdesegovia.com/events/fiesta-en-honor-a-san-antonio-2025-
 en-santo-domingo-de-piron/
URL:https://www.eventosdesegovia.com/events/fiesta-en-honor-a-san-antonio-2025-en-santo-domingo-de-piron/
END:VEVENT
END:VCALENDAR