BEGIN:VCALENDAR
VERSION:2.0
PRODID:-//eventon.com NONSGML v1.0//EN
CALSCALE:GREGORIAN
METHOD:PUBLISH
BEGIN:VEVENT
UID:69eb3e9b0a1c2
DTSTAMP:20260424T095747Z
DTSTART:20250616
DTEND:20250617
LOCATION:Campo Mariano Chocolate Calle Dámaso Alonso\,  7D
SUMMARY:IV Mundialito de Fútbol-7 en el Campo Mariano Chocolate
DESCRIPTION:IV Mundialito de Fútbol-7 en el Campo Mariano Chocolate\,  del
  16 al 18 de Junio de 2025\,  de 17:00 a 19:00. Participantes del Programa 
 de Acogida e Integración de solicitantes y beneficiarios de Protección In
 ternacional. Organiza «Cruz Roja de Segovia» y «A.C.C.E.M.».\nhttps://w
 ww.eventosdesegovia.com/events/iv-mundialito-de-futbol-7-en-el-campo-marian
 o-chocolate/
URL:https://www.eventosdesegovia.com/events/iv-mundialito-de-futbol-7-en-el-campo-mariano-chocolate/
END:VEVENT
END:VCALENDAR