BEGIN:VCALENDAR
VERSION:2.0
PRODID:-//eventon.com NONSGML v1.0//EN
CALSCALE:GREGORIAN
METHOD:PUBLISH
BEGIN:VEVENT
UID:69e89f8cd7d17
DTSTAMP:20260422T101436Z
DTSTART:20250619
DTEND:20250620
LOCATION:
SUMMARY:Presentación del Jardín de los Sentidos 2025 en Palacio Quintanar
DESCRIPTION:Presentación del Jardín de los Sentidos 2025\,  19 junio a la
 s 12.00 hrs.\,  en Palacio Quintanar. El próximo jueves 19 de junio a las 
 12:00h. se presentará el programa Jardín de los Sentidos 2025 en el patio
  del Palacio Quintanar. La violinista Weronika Bagniewska y el violonchelis
 ta Ignacy Krzemiński-Iwan serán[..]\nhttps://www.eventosdesegovia.com/eve
 nts/presentacion-del-jardin-de-los-sentidos-2025-en-palacio-quintanar/
URL:https://www.eventosdesegovia.com/events/presentacion-del-jardin-de-los-sentidos-2025-en-palacio-quintanar/
END:VEVENT
END:VCALENDAR