BEGIN:VCALENDAR
VERSION:2.0
PRODID:-//eventon.com NONSGML v1.0//EN
CALSCALE:GREGORIAN
METHOD:PUBLISH
BEGIN:VEVENT
UID:69e763313c59a
DTSTAMP:20260421T114449Z
DTSTART:20250619
DTEND:20250620
LOCATION:Sala San Nicolas Plaza de San Nicolás
SUMMARY:'El príncipe travestido y la falsa doncella' en San Nicolás
DESCRIPTION:El príncipe travestido y la falsa doncella\,  dentro de la pro
 gramación de Primavera Teatral Segovia\,  del 19 al 22 de junio en San Nic
 olás. Autor: Pierre Carlet de Chamblain de Marivaux Adaptación y direcci
 n: Sergio Artero Elenco: Teresa Rodríguez\,  Lola Velasco\,  Laura Postig
 o\,  Carlos Martín\,  Ángel Martín\,  Marisa Turrillas\,  David[..]\nhtt
 ps://www.eventosdesegovia.com/events/el-principe-travestido-y-la-falsa-donc
 ella-en-san-nicolas/
URL:https://www.eventosdesegovia.com/events/el-principe-travestido-y-la-falsa-doncella-en-san-nicolas/
END:VEVENT
END:VCALENDAR