BEGIN:VCALENDAR
VERSION:2.0
PRODID:-//eventon.com NONSGML v1.0//EN
CALSCALE:GREGORIAN
METHOD:PUBLISH
BEGIN:VEVENT
UID:69eb2ae934108
DTSTAMP:20260424T083345Z
DTSTART:20250622
DTEND:20250623
LOCATION:Circuito de Motocross de Segovia Altos de la Piedad Carretera N-110 Soria\,  17\,  40003 Segovia
SUMMARY:Trofeo Ciudad de Segovia 2025 de Motocross
DESCRIPTION:Trofeo Ciudad de Segovia 2025 de Motocross\,  el 22 de Junio de
  2025\,  entrenamientos a las 10:30\,  carreras a partir de las 11:30 en lo
 s Altos de la Piedad. Síguenos en nuestro canal de Whatsapp:\nhttps://www.
 eventosdesegovia.com/events/trofeo-ciudad-de-segovia-2025-de-motocross/
URL:https://www.eventosdesegovia.com/events/trofeo-ciudad-de-segovia-2025-de-motocross/
END:VEVENT
END:VCALENDAR